0.007566668590199
0.000000000000000
0.000000000000000
-0.007566668590199
-68.348214641556737
20.195004974698122
