0.008357758839925
0.000000000000000
0.000000000000000
-0.008357758839925
-84.203622065862007
32.772619443893426
