0.009311356977983
0.000000000000000
0.000000000000000
-0.009311356977983
-86.610750011097295
41.975965659401609
