0.009053883463542
0.000000000000000
0.000000000000000
-0.009053883463542
-115.572638158365810
40.076290614013679
