0.009085804332386
0.000000000000000
0.000000000000000
-0.009085804332386
-100.164199191007000
40.148052617853303
