0.008774414062500
0.000000000000000
0.000000000000000
-0.008774414062500
-88.711936645507805
37.339576416015603
