0.003183665990938
0.000000000000000
0.000000000000000
-0.003183665990938
-96.197099797281467
30.391264524726058
