0.008927334872159
0.000000000000000
0.000000000000000
-0.008927334872159
-122.304733498312980
38.764552598433099
