0.007713401100852
0.000000000000000
0.000000000000000
-0.007713401100852
-159.493162286932010
23.253328281749404
