0.007662575461648
0.000000000000000
0.000000000000000
-0.007662575461648
-158.075947210138000
22.232376674305304
