0.007753850763494
0.000000000000000
0.000000000000000
-0.007753850763494
-161.877270979448010
24.025431393710104
