0.008253362941753
0.000000000000000
0.000000000000000
-0.008253362941753
-97.550980304524714
31.729996832408556
