0.008585038618608
0.000000000000000
0.000000000000000
-0.008585038618608
-108.693220714221990
35.432593314430903
