0.007397682883523
0.000000000000000
0.000000000000000
-0.007397682883523
142.595398615057010
15.483664020191512
