0.008769281560724
0.000000000000000
0.000000000000000
-0.008769281560724
-84.846401048140095
37.290167208584897
