0.009817754572088
0.000000000000000
0.000000000000000
-0.009817754572088
-88.485415663285721
45.588974637118305
