0.008368447043679
0.000000000000000
0.000000000000000
-0.008368447043679
-99.889353124445108
33.019138835560206
