0.010083562677557
0.000000000000000
0.000000000000000
-0.010083562677557
-91.131027082963399
47.265939053622205
