0.009304171475497
0.000000000000000
0.000000000000000
-0.009304171475497
-104.486596305153990
41.919996199174406
