0.00854545454545454
0.000000
0.000000
-0.00854545454545454
-99.8623650401722
34.9187291342995
