0.009360628995028
0.000000000000000
0.000000000000000
-0.009360628995028
-107.348506552956000
42.355491957231010
