0.008736600008878
0.000000000000000
0.000000000000000
-0.008736600008878
-113.813610298849980
36.972198014692800
