0.009930087002841
0.000000000000000
0.000000000000000
-0.009930087002841
-99.703057334206306
46.313810133500503
