0.008792336203835
0.000000000000000
0.000000000000000
-0.008792336203835
-120.193302251642000
37.511495860706709
