0.008253362941753
0.000000000000000
0.000000000000000
-0.008253362941753
-100.497430874730450
31.961090994777635
