0.008357758839925
0.000000000000000
0.000000000000000
-0.008357758839925
-88.424290280024195
32.856197032292670
