0.008471180308949
0.000000000000000
0.000000000000000
-0.008471180308949
-109.235116549405010
34.198338186090602
