0.009769176136364
0.000000000000000
0.000000000000000
-0.009769176136364
-76.989871243563599
45.267637384588106
