0.008473122336648
0.000000000000000
0.000000000000000
-0.008473122336648
-113.167697393244010
34.219871181141201
