0.008533269708807
0.000000000000000
0.000000000000000
-0.008533269708807
-101.809712080522000
34.880380734530398
