0.009620472301136
0.000000000000000
0.000000000000000
-0.009620472301136
-93.462332735928612
44.252819158380703
