0.010513277920810
0.000000000000000
0.000000000000000
-0.010513277920810
-95.358725821755101
49.722896589799397
