0.009098899147727
0.000000000000000
0.000000000000000
-0.009098899147727
-102.693122614080010
40.258649402965197
