0.009552751020952
0.000000000000000
0.000000000000000
-0.009552751020952
-107.667048686634000
43.774230582497303
