0.010085809881037
0.000000000000000
0.000000000000000
-0.010085809881037
-76.186700425581492
47.279556399258702
