0.008154698079427
0.000000000000000
0.000000000000000
-0.008154698079427
-99.957806073811881
30.013520195312530
