0.009519625577060
0.000000000000000
0.000000000000000
-0.009519625577060
-80.855125663063703
43.536137556596209
