0.010360690030185
0.000000000000000
0.000000000000000
-0.010360690030185
-70.910025870583297
48.883010878129397
