0.008696556599935
0.000000000000000
0.000000000000000
-0.008696556599935
-83.719695033264117
36.327509542338085
