0.009672157981179
0.000000000000000
0.000000000000000
-0.009672157981179
-74.034811803644303
44.611008647571900
