0.008594415838068
0.000000000000000
0.000000000000000
-0.008594415838068
-89.344024186567793
35.531168032559499
