0.009459284002131
0.000000000000000
0.000000000000000
-0.009459284002131
-127.124055924849000
43.095574007901298
