0.009709528142756
0.000000000000000
0.000000000000000
-0.009709528142756
-78.893004289106898
44.866265688809513
