0.010788490988992
0.000000000000000
0.000000000000000
-0.010788490988992
-125.725156347101010
51.156440471302403
