0.007925941299862
0.000000000000000
0.000000000000000
-0.007925941299862
-82.794900918995538
27.777249668461483
