0.008806929154830
0.000000000000000
0.000000000000000
-0.008806929154830
-104.346674915661000
37.650503761985100
