0.013827126242898
0.000000000000000
0.000000000000000
-0.013827126242898
-160.768223211114990
62.475546458851198
