0.016691839044744
0.000000000000000
0.000000000000000
-0.016691839044744
-170.292205061479000
69.093910855380017
