0.013146861683239
0.000000000000000
0.000000000000000
-0.013146861683239
-139.465484952060000
60.461814172918118
