0.010253212668679
0.000000000000000
0.000000000000000
-0.010253212668679
-101.483839208430000
48.270508159290706
